BEGIN:VCALENDAR
VERSION:2.0
PRODID:-//11m Funkrunde//11m-band.de//
CALSCALE:GREGORIAN
METHOD:PUBLISH
X-WR-CALNAME:11m Funkrunde
BEGIN:VEVENT
SUMMARY:📻 Münchner Sonntags SSB Runder
DTSTART;TZID=Europe/Berlin:20260426T100000
DTEND;TZID=Europe/Berlin:20260426T120000
DTSTAMP:20260425T231311Z
UID:funkrunde-8373@11m-band.de
RRULE:FREQ=WEEKLY;UNTIL=20270425T100000
CATEGORIES:📡 USB Runde
DESCRIPTION:📻 Kanal: 36\n👤 Organisator: \n\n🔗 https://11m-band.de
 /termin/8373/
LOCATION:36
URL:https://11m-band.de/termin/8373/
END:VEVENT
END:VCALENDAR
