BEGIN:VCALENDAR
VERSION:2.0
PRODID:-//11m Funkrunde//11m-band.de//
CALSCALE:GREGORIAN
METHOD:PUBLISH
X-WR-CALNAME:11m Funkrunde
BEGIN:VEVENT
SUMMARY:📻 Sonntagsrunde SSB München
DTSTART;TZID=Europe/Berlin:20260426T100000
DTEND;TZID=Europe/Berlin:20260426T120000
DTSTAMP:20260425T194535Z
UID:funkrunde-8372@11m-band.de
RRULE:FREQ=WEEKLY;UNTIL=20270425T100000
CATEGORIES:📡 USB Runde
DESCRIPTION:📻 Kanal: Kanal 36\n👤 Organisator: \n\nMünchner SSB Rund
 e - da sich aus München leider zu wenig Leute eingefunden habe\, habe ich
  den Termin mal erstellt - Rainer kann jeder Zeit den 'claim' haben.\n\n
 🔗 https://11m-band.de/termin/8372/
LOCATION:Kanal 36
URL:https://11m-band.de/termin/8372/
END:VEVENT
END:VCALENDAR
