BEGIN:VCALENDAR
VERSION:2.0
PRODID:-//11m Funkrunde//11m-band.de//
CALSCALE:GREGORIAN
METHOD:PUBLISH
X-WR-CALNAME:11m Funkrunde
BEGIN:VEVENT
SUMMARY:📻 Tägliche runde Chemnitz und Umgebung
DTSTART;TZID=Europe/Berlin:20260401T000000
DTEND;TZID=Europe/Berlin:20260401T020000
DTSTAMP:20260424T055708Z
UID:funkrunde-8156@11m-band.de
RRULE:FREQ=DAILY;UNTIL=20261031T000000
CATEGORIES:📻 FM Runde
DESCRIPTION:📻 Kanal: Kanal 72\n📡 Frequenz: 26.875MHz\n👤 Organisat
 or: \n\nTägliche Runde jeden tag von 15 bis 18:30\n\n🔗 https://11m-ban
 d.de/termin/8156/
LOCATION:Kanal 72
URL:https://11m-band.de/termin/8156/
END:VEVENT
END:VCALENDAR
