BEGIN:VCALENDAR
VERSION:2.0
PRODID:-//11m Funkrunde//11m-band.de//
CALSCALE:GREGORIAN
METHOD:PUBLISH
X-WR-CALNAME:11m Funkrunde
BEGIN:VEVENT
SUMMARY:📻 Baden-Württemberg SSB Runde
DTSTART;TZID=Europe/Berlin:20260425T210000
DTEND;TZID=Europe/Berlin:20260425T230000
DTSTAMP:20260423T225322Z
UID:funkrunde-8085@11m-band.de
RRULE:FREQ=WEEKLY;UNTIL=20261222T210000
CATEGORIES:📡 USB Runde
DESCRIPTION:📻 Kanal: Kanal 11\n📡 Frequenz: 27.085\n👤 Organisator:
  \n\n🔗 https://11m-band.de/termin/8085/
LOCATION:Kanal 11
URL:https://11m-band.de/termin/8085/
END:VEVENT
END:VCALENDAR
