BEGIN:VCALENDAR
VERSION:2.0
PRODID:-//11m Funkrunde//11m-band.de//
CALSCALE:GREGORIAN
METHOD:PUBLISH
X-WR-CALNAME:11m Funkrunde
BEGIN:VEVENT
SUMMARY:📻 Niedersachsen Süd-Ost Freitagsrunde
DTSTART;TZID=Europe/Berlin:20260424T201500
DTEND;TZID=Europe/Berlin:20260424T221500
DTSTAMP:20260423T223652Z
UID:funkrunde-8084@11m-band.de
RRULE:FREQ=WEEKLY;UNTIL=20261225T201500
CATEGORIES:📻 Lokale Runde
DESCRIPTION:📻 Kanal: Kanal 18\n📡 Frequenz: 27.175 MHz\n👤 Organisa
 tor: \n\nZusätzlich zur Dienstagsrunde :)\n\n🔗 https://11m-band.de/ter
 min/8084/
LOCATION:Kanal 18
URL:https://11m-band.de/termin/8084/
END:VEVENT
END:VCALENDAR
