BEGIN:VCALENDAR
VERSION:2.0
PRODID:-//11m Funkrunde//11m-band.de//
CALSCALE:GREGORIAN
METHOD:PUBLISH
X-WR-CALNAME:11m Funkrunde
BEGIN:VEVENT
SUMMARY:📻 OWL-Runde Kanal 17 USB jeden Samstag Abend
DTSTART;TZID=Europe/Berlin:20260425T223000
DTEND;TZID=Europe/Berlin:20260426T003000
DTSTAMP:20260423T230222Z
UID:funkrunde-8047@11m-band.de
RRULE:FREQ=WEEKLY;UNTIL=20261231T223000
CATEGORIES:📡 USB Runde
DESCRIPTION:📻 Kanal: Kanal 17\n📡 Frequenz: 27.165 MHz\n👤 Organisa
 tor: \n\nEine Runde  bestehend aus netten CB-AFU-Funkern in OWL-Kreis Lipp
 e\n\n🔗 https://11m-band.de/termin/8047/
LOCATION:Kanal 17
URL:https://11m-band.de/termin/8047/
END:VEVENT
END:VCALENDAR
