BEGIN:VCALENDAR
VERSION:2.0
PRODID:-//11m Funkrunde//11m-band.de//
CALSCALE:GREGORIAN
METHOD:PUBLISH
X-WR-CALNAME:11m Funkrunde
BEGIN:VEVENT
SUMMARY:📻 Wöchentliche Samstags OWL-Runde K17-USB
DTSTART;TZID=Europe/Berlin:20260425T200000
DTEND;TZID=Europe/Berlin:20260425T220000
DTSTAMP:20260423T223616Z
UID:funkrunde-8043@11m-band.de
RRULE:FREQ=WEEKLY;UNTIL=20260509T200000
CATEGORIES:📡 USB Runde
DESCRIPTION:📻 Kanal: Kanal 17\n📡 Frequenz: 27.165 MHz\n👤 Organisa
 tor: \n\nWöchentliche gemütliche Plauder runde auf **K17 SSB:USB**\nfür
  den Raum Ost-Westfalen-Lippe und drum herum :-)\n\n🔗 https://11m-band.
 de/termin/8043/
LOCATION:Kanal 17
URL:https://11m-band.de/termin/8043/
END:VEVENT
END:VCALENDAR
