BEGIN:VCALENDAR
VERSION:2.0
PRODID:-//11m Funkrunde//11m-band.de//
CALSCALE:GREGORIAN
METHOD:PUBLISH
X-WR-CALNAME:11m Funkrunde
BEGIN:VEVENT
SUMMARY:📻 Burgruine Neideck
DTSTART;TZID=Europe/Berlin:20260627T050000
DTEND;TZID=Europe/Berlin:20260627T070000
DTSTAMP:20260423T225004Z
UID:funkrunde-80@11m-band.de
CATEGORIES:🏰 COTA (Castles on the Air)
DESCRIPTION:📻 Kanal: Kanal 27\n👤 Organisator: \n\nFunkaktivierung an
  der mittelalterlichen Burgruine Neideck in der Fränkischen Schweiz. Echt
 e Burgruine mit Aussicht! Kombinierbar mit WWFF/POTA (DLFF-0983 / DE-0025)
 .\n\n🔗 https://11m-band.de/termin/80/
LOCATION:Kanal 27
URL:https://11m-band.de/termin/80/
END:VEVENT
END:VCALENDAR
