BEGIN:VCALENDAR
VERSION:2.0
PRODID:-//11m Funkrunde//11m-band.de//
CALSCALE:GREGORIAN
METHOD:PUBLISH
X-WR-CALNAME:11m Funkrunde
BEGIN:VEVENT
SUMMARY:📻 Sonntagsrunde in Freiburg u. Umgebung
DTSTART;TZID=Europe/Berlin:20260412T150000
DTEND;TZID=Europe/Berlin:20260412T170000
DTSTAMP:20260423T223720Z
UID:funkrunde-7996@11m-band.de
RRULE:FREQ=WEEKLY;UNTIL=20261227T150000
CATEGORIES:📻 Lokale Runde
DESCRIPTION:📻 Kanal: Kanal 77\n📡 Frequenz: 26965\n👤 Organisator: 
 \n\n🔗 https://11m-band.de/termin/7996/
LOCATION:Kanal 77
URL:https://11m-band.de/termin/7996/
END:VEVENT
END:VCALENDAR
