BEGIN:VCALENDAR
VERSION:2.0
PRODID:-//11m Funkrunde//11m-band.de//
CALSCALE:GREGORIAN
METHOD:PUBLISH
X-WR-CALNAME:11m Funkrunde
BEGIN:VEVENT
SUMMARY:📻 Oskar Tango SSB Runde
DTSTART;TZID=Europe/Berlin:20260416T200000
DTEND;TZID=Europe/Berlin:20260416T220000
DTSTAMP:20260423T223720Z
UID:funkrunde-7957@11m-band.de
RRULE:FREQ=WEEKLY;UNTIL=20261217T200000
CATEGORIES:📡 USB Runde
DESCRIPTION:📻 Kanal: Kanal 8\n📡 Frequenz: 27055\n👤 Organisator: \
 n\nJeden Donnerstag Punkt 20Uhr beginnt die **Oskar Tango SSB Runde** meis
 t mit offenem Ende.\n\n🔗 https://11m-band.de/termin/7957/
LOCATION:Kanal 8
URL:https://11m-band.de/termin/7957/
END:VEVENT
END:VCALENDAR
