BEGIN:VCALENDAR
VERSION:2.0
PRODID:-//11m Funkrunde//11m-band.de//
CALSCALE:GREGORIAN
METHOD:PUBLISH
X-WR-CALNAME:11m Funkrunde
BEGIN:VEVENT
SUMMARY:📻 Heimgarten
DTSTART;TZID=Europe/Berlin:20260606T050000
DTEND;TZID=Europe/Berlin:20260606T070000
DTSTAMP:20260423T224159Z
UID:funkrunde-79@11m-band.de
CATEGORIES:⛰️ SOTA (Summits on the Air)
DESCRIPTION:📻 Kanal: Kanal 27\n👤 Organisator: \n\nBergtour auf den H
 eimgarten (1790 m) bei Kochel am See mit Funkbetrieb vom Gipfel. Mittelsch
 were Tour mit grandiosem Blick auf Walchensee und Karwendel. 6 Punkte.\n\n
 🔗 https://11m-band.de/termin/79/
LOCATION:Kanal 27
URL:https://11m-band.de/termin/79/
END:VEVENT
END:VCALENDAR
