BEGIN:VCALENDAR
VERSION:2.0
PRODID:-//11m Funkrunde//11m-band.de//
CALSCALE:GREGORIAN
METHOD:PUBLISH
X-WR-CALNAME:11m Funkrunde
BEGIN:VEVENT
SUMMARY:📻 Hersfelder Runde
DTSTART;TZID=Europe/Berlin:20260408T163000
DTEND;TZID=Europe/Berlin:20260408T183000
DTSTAMP:20260423T223016Z
UID:funkrunde-7724@11m-band.de
RRULE:FREQ=DAILY;UNTIL=20261001T163000
CATEGORIES:📻 Lokale Runde
DESCRIPTION:📻 Kanal: Kanal 37\n📡 Frequenz: 27.375MHz\n👤 Organisat
 or: \n\n🔗 https://11m-band.de/termin/7724/
LOCATION:Kanal 37
URL:https://11m-band.de/termin/7724/
END:VEVENT
END:VCALENDAR
