BEGIN:VCALENDAR
VERSION:2.0
PRODID:-//11m Funkrunde//11m-band.de//
CALSCALE:GREGORIAN
METHOD:PUBLISH
X-WR-CALNAME:11m Funkrunde
BEGIN:VEVENT
SUMMARY:📻 Bagalutenrunde
DTSTART;TZID=Europe/Berlin:20260405T170000
DTEND;TZID=Europe/Berlin:20260405T190000
DTSTAMP:20260423T225408Z
UID:funkrunde-7449@11m-band.de
RRULE:FREQ=DAILY;UNTIL=20261231T170000
CATEGORIES:📻 Lokale Runde
DESCRIPTION:📻 Kanal: Kanal 67 FM\n👤 Organisator: \n\nAlle CB Funker 
 gern gehört !\n\n🔗 https://11m-band.de/termin/7449/
LOCATION:Kanal 67 FM
URL:https://11m-band.de/termin/7449/
END:VEVENT
END:VCALENDAR
