BEGIN:VCALENDAR
VERSION:2.0
PRODID:-//11m Funkrunde//11m-band.de//
CALSCALE:GREGORIAN
METHOD:PUBLISH
X-WR-CALNAME:11m Funkrunde
BEGIN:VEVENT
SUMMARY:📻 Tägliche Funkerrunde Düsseldorf und Umgebung
DTSTART;TZID=Europe/Berlin:20260329T223500
DTEND;TZID=Europe/Berlin:20260330T003500
DTSTAMP:20260423T224541Z
UID:funkrunde-6774@11m-band.de
RRULE:FREQ=DAILY;UNTIL=20270329T223500
CATEGORIES:📻 Lokale Runde
DESCRIPTION:📻 Kanal: Kanal 29\n📡 Frequenz: 27.295\n👤 Organisator:
  \n\n29FM für Düsseldorf und Umgebung\, nach Absprache auch auf 29USB\n\
 n🔗 https://11m-band.de/termin/6774/
LOCATION:Kanal 29
URL:https://11m-band.de/termin/6774/
END:VEVENT
END:VCALENDAR
