BEGIN:VCALENDAR
VERSION:2.0
PRODID:-//11m Funkrunde//11m-band.de//
CALSCALE:GREGORIAN
METHOD:PUBLISH
X-WR-CALNAME:11m Funkrunde
BEGIN:VEVENT
SUMMARY:📻 AM - Funkrunde Dahme - Spreewald
DTSTART;TZID=Europe/Berlin:20260328T190000
DTEND;TZID=Europe/Berlin:20260328T210000
DTSTAMP:20260423T225705Z
UID:funkrunde-6731@11m-band.de
RRULE:FREQ=WEEKLY;UNTIL=20261231T190000
CATEGORIES:📻 Lokale Runde
DESCRIPTION:📻 Kanal: Kanal 4\n📡 Frequenz: 27.0050\n👤 Organisator:
  \n\nJeden Samstag findet die Runde auf Kanal 4 AM (27.0050 Mhz) statt.\n\
 n🔗 https://11m-band.de/termin/6731/
LOCATION:Kanal 4
URL:https://11m-band.de/termin/6731/
END:VEVENT
END:VCALENDAR
