BEGIN:VCALENDAR
VERSION:2.0
PRODID:-//11m Funkrunde//11m-band.de//
CALSCALE:GREGORIAN
METHOD:PUBLISH
X-WR-CALNAME:11m Funkrunde
BEGIN:VEVENT
SUMMARY:📻 Niedersachsen Süd-Ost
DTSTART;TZID=Europe/Berlin:20260331T201500
DTEND;TZID=Europe/Berlin:20260331T221500
DTSTAMP:20260423T223659Z
UID:funkrunde-6325@11m-band.de
RRULE:FREQ=WEEKLY;UNTIL=20261229T201500
CATEGORIES:📻 Lokale Runde
DESCRIPTION:📻 Kanal: Kanal 18\n📡 Frequenz: 27.175 MHz\n👤 Organisa
 tor: \n\nLockere Dienstagsrunde aus den Regionen Hildesheim/Seesen/(Vor)Ha
 rz und darüber hinaus.\nJeder ist willkommen. Keine Region wird ausgeschl
 ossen\, einfach mal probieren ob eine Verbindung klappt.\n\n🔗 https://1
 1m-band.de/termin/6325/
LOCATION:Kanal 18
URL:https://11m-band.de/termin/6325/
END:VEVENT
END:VCALENDAR
