BEGIN:VCALENDAR
VERSION:2.0
PRODID:-//11m Funkrunde//11m-band.de//
CALSCALE:GREGORIAN
METHOD:PUBLISH
X-WR-CALNAME:11m Funkrunde
BEGIN:VEVENT
SUMMARY:📻 Gateway-Deutschland.de
DTSTART;TZID=Europe/Berlin:20260325T200000
DTEND;TZID=Europe/Berlin:20260325T220000
DTSTAMP:20260423T224602Z
UID:funkrunde-5960@11m-band.de
RRULE:FREQ=DAILY;UNTIL=20270324T200000
CATEGORIES:📻 FM Runde
DESCRIPTION:📻 Kanal: CB Kanal 29\n📡 Frequenz: 27.295 Mhz\n👤 Organ
 isator: \n\n🔗 https://11m-band.de/termin/5960/
LOCATION:CB Kanal 29
URL:https://11m-band.de/termin/5960/
END:VEVENT
END:VCALENDAR
