BEGIN:VCALENDAR
VERSION:2.0
PRODID:-//11m Funkrunde//11m-band.de//
CALSCALE:GREGORIAN
METHOD:PUBLISH
X-WR-CALNAME:11m Funkrunde
BEGIN:VEVENT
SUMMARY:📻 tägliche Abend-Gateway-Funkrunde - QTH Fürth - Odw
DTSTART;TZID=Europe/Berlin:20260316T200000
DTEND;TZID=Europe/Berlin:20260316T220000
DTSTAMP:20260423T224456Z
UID:funkrunde-5590@11m-band.de
RRULE:FREQ=DAILY;UNTIL=20260531T200000
CATEGORIES:📡 Sonstige
DESCRIPTION:📻 Kanal: Kanal 71\n📡 Frequenz: 26.865\n👤 Organisator:
  \n\n**Funk verbindet – unsere tägliche Abend-Gateway-Funkrunde QTH Fü
 rth im Odenwald.\n**\nIch freue mich\, dass wir inzwischen Teilnehmer aus 
 ganz Deutschland\, Österreich\, Schweiz\, Holland & Finnland in der Runde
  haben 🙂\nHier ist dein idealer Einstiegspunkt\, wenn du mit dabei sein
  möchtest.\n\nRufe gerne mit einem kurzen QRX rein und denke bitte an die
  3 Sekunden Sprechpause zwischen den QSOs\, damit alle sauber einsteigen k
 önnen.\n\nLasst uns gemeinsam unser schönes Hobby leben\, Spaß haben un
 d gute Verbindungen genießen.\n\nAlle Infos findest du unter:\n[www.gatew
 ay-deutschland.de](www.gateway-deutschland.de)\n\n🔗 https://11m-band.de
 /termin/5590/
LOCATION:Kanal 71
URL:https://11m-band.de/termin/5590/
END:VEVENT
END:VCALENDAR
