BEGIN:VCALENDAR
VERSION:2.0
PRODID:-//11m Funkrunde//11m-band.de//
CALSCALE:GREGORIAN
METHOD:PUBLISH
X-WR-CALNAME:11m Funkrunde
BEGIN:VEVENT
SUMMARY:📻 Dienstagsrunde Funkfreunde Nordschwarzwald
DTSTART;TZID=Europe/Berlin:20260325T210000
DTEND;TZID=Europe/Berlin:20260325T230000
DTSTAMP:20260423T223015Z
UID:funkrunde-5549@11m-band.de
RRULE:FREQ=WEEKLY;UNTIL=20261229T210000
CATEGORIES:📻 FM Runde
DESCRIPTION:📻 Kanal: Kanal 33\n📡 Frequenz: 27\,335\n👤 Organisator
 : \n\nJeden Dienstag Abend\n\n🔗 https://11m-band.de/termin/5549/
LOCATION:Kanal 33
URL:https://11m-band.de/termin/5549/
END:VEVENT
END:VCALENDAR
