BEGIN:VCALENDAR
VERSION:2.0
PRODID:-//11m Funkrunde//11m-band.de//
CALSCALE:GREGORIAN
METHOD:PUBLISH
X-WR-CALNAME:11m Funkrunde
BEGIN:VEVENT
SUMMARY:📻 SSB Runde Berlin / Brandenburg
DTSTART;TZID=Europe/Berlin:20260215T190000
DTEND;TZID=Europe/Berlin:20260215T210000
DTSTAMP:20260423T225101Z
UID:funkrunde-2571@11m-band.de
RRULE:FREQ=WEEKLY;UNTIL=20261227T190000
CATEGORIES:📡 USB Runde
DESCRIPTION:📻 Kanal: Kanal 3\n📡 Frequenz: 26.985\n👤 Organisator: 
 \n\nSSB Runde Berlin Brandenburg - Jeden Sonntag 19 Uhr!\n\n🔗 https://1
 1m-band.de/termin/2571/
LOCATION:Kanal 3
URL:https://11m-band.de/termin/2571/
END:VEVENT
END:VCALENDAR
